Workbook

Sheet 使い方
A1: 小さなお店の原価計算表（無料テンプレート）
A3: 黄色のセルだけ入力します。白いセルは計算式なので、触らなくて大丈夫です。
A4: 1. 「材料」シート：材料の名前・仕入れ値（税抜き）・仕入れた量・単位を入れる → 1単位あたりの値段が出ます
A5: 2. 「レシピ」シート：メニュー名・使う材料・使う量を入れる（材料は一覧から選べます）→ 材料ごとの原価が出ます
A6: 3. 「一覧」シート：メニュー名と売値（税抜き）を入れる → 原価・原価率・目標の原価率から逆算した売値が出ます
A7: 原価率が目標より高いメニューは赤、目標以内は緑になります
A9: ※ 入っている数字はすべて架空の例です。ご自分のお店の数字に書き換えてください。
A10: ※ 原価は「材料費」だけです（人件費・光熱費・家賃は入っていません）。
A11: ※ 文字の色：青＝入力した数字／黒＝計算式／緑＝ほかのシートから持ってきた数字
A13: 作成：のってぃ｜notthi.com

Sheet 一覧
A1: 目標の原価率（全体） | B1: 0.3 | C1: ← 目安の一例（30%）。お店に合わせて変えてください
A2: 目標の原価率は行ごとに書き換えてもOK（黄色）。「目標どおりなら売値」は10円単位で切り上げ
A3: メニュー名 | B3: 売値（円・税抜） | C3: 原価（円） | D3: 原価率 | E3: 目標の原価率 | F3: 目標どおりなら売値（円） | G3: 今の売値との差（円）
A4: ブレンドコーヒー | B4: 400 | C4: =IF(A4="","",SUMIFS(レシピ!$F$2:$F$151,レシピ!$A$2:$A$151,A4)) -> 48 | D4: =IF(OR(A4="",B4="",B4=0),"",C4/B4) -> 0.12 | E4: =IF(A4="","",$B$1) -> 0.3 | F4: =IF(OR(A4="",E4="",E4=0),"",ROUNDUP(C4/E4,-1)) -> 160 | G4: =IF(OR(F4="",B4=""),"",B4-F4) -> 240
A5: カフェラテ | B5: 500 | C5: =IF(A5="","",SUMIFS(レシピ!$F$2:$F$151,レシピ!$A$2:$A$151,A5)) -> 82.5 | D5: =IF(OR(A5="",B5="",B5=0),"",C5/B5) -> 0.165 | E5: =IF(A5="","",$B$1) -> 0.3 | F5: =IF(OR(A5="",E5="",E5=0),"",ROUNDUP(C5/E5,-1)) -> 280 | G5: =IF(OR(F5="",B5=""),"",B5-F5) -> 220
A6: いちごのショートケーキ（1切れ） | B6: 480 | C6: =IF(A6="","",SUMIFS(レシピ!$F$2:$F$151,レシピ!$A$2:$A$151,A6)) -> 239.05556 | D6: =IF(OR(A6="",B6="",B6=0),"",C6/B6) -> 0.49803241 | E6: =IF(A6="","",$B$1) -> 0.3 | F6: =IF(OR(A6="",E6="",E6=0),"",ROUNDUP(C6/E6,-1)) -> 800 | G6: =IF(OR(F6="",B6=""),"",B6-F6) -> -320
A7: 食パン（1斤） | B7: 380 | C7: =IF(A7="","",SUMIFS(レシピ!$F$2:$F$151,レシピ!$A$2:$A$151,A7)) -> 152.94444 | D7: =IF(OR(A7="",B7="",B7=0),"",C7/B7) -> 0.40248538 | E7: =IF(A7="","",$B$1) -> 0.3 | F7: =IF(OR(A7="",E7="",E7=0),"",ROUNDUP(C7/E7,-1)) -> 510 | G7: =IF(OR(F7="",B7=""),"",B7-F7) -> -130
C8: =IF(A8="","",SUMIFS(レシピ!$F$2:$F$151,レシピ!$A$2:$A$151,A8)) | D8: =IF(OR(A8="",B8="",B8=0),"",C8/B8) | E8: =IF(A8="","",$B$1) | F8: =IF(OR(A8="",E8="",E8=0),"",ROUNDUP(C8/E8,-1)) | G8: =IF(OR(F8="",B8=""),"",B8-F8)
C9: =IF(A9="","",SUMIFS(レシピ!$F$2:$F$151,レシピ!$A$2:$A$151,A9)) | D9: =IF(OR(A9="",B9="",B9=0),"",C9/B9) | E9: =IF(A9="","",$B$1) | F9: =IF(OR(A9="",E9="",E9=0),"",ROUNDUP(C9/E9,-1)) | G9: =IF(OR(F9="",B9=""),"",B9-F9)
C10: =IF(A10="","",SUMIFS(レシピ!$F$2:$F$151,レシピ!$A$2:$A$151,A10)) | D10: =IF(OR(A10="",B10="",B10=0),"",C10/B10) | E10: =IF(A10="","",$B$1) | F10: =IF(OR(A10="",E10="",E10=0),"",ROUNDUP(C10/E10,-1)) | G10: =IF(OR(F10="",B10=""),"",B10-F10)
C11: =IF(A11="","",SUMIFS(レシピ!$F$2:$F$151,レシピ!$A$2:$A$151,A11)) | D11: =IF(OR(A11="",B11="",B11=0),"",C11/B11) | E11: =IF(A11="","",$B$1) | F11: =IF(OR(A11="",E11="",E11=0),"",ROUNDUP(C11/E11,-1)) | G11: =IF(OR(F11="",B11=""),"",B11-F11)
C12: =IF(A12="","",SUMIFS(レシピ!$F$2:$F$151,レシピ!$A$2:$A$151,A12)) | D12: =IF(OR(A12="",B12="",B12=0),"",C12/B12) | E12: =IF(A12="","",$B$1) | F12: =IF(OR(A12="",E12="",E12=0),"",ROUNDUP(C12/E12,-1)) | G12: =IF(OR(F12="",B12=""),"",B12-F12)
C13: =IF(A13="","",SUMIFS(レシピ!$F$2:$F$151,レシピ!$A$2:$A$151,A13)) | D13: =IF(OR(A13="",B13="",B13=0),"",C13/B13) | E13: =IF(A13="","",$B$1) | F13: =IF(OR(A13="",E13="",E13=0),"",ROUNDUP(C13/E13,-1)) | G13: =IF(OR(F13="",B13=""),"",B13-F13)
C14: =IF(A14="","",SUMIFS(レシピ!$F$2:$F$151,レシピ!$A$2:$A$151,A14)) | D14: =IF(OR(A14="",B14="",B14=0),"",C14/B14) | E14: =IF(A14="","",$B$1) | F14: =IF(OR(A14="",E14="",E14=0),"",ROUNDUP(C14/E14,-1)) | G14: =IF(OR(F14="",B14=""),"",B14-F14)
C15: =IF(A15="","",SUMIFS(レシピ!$F$2:$F$151,レシピ!$A$2:$A$151,A15)) | D15: =IF(OR(A15="",B15="",B15=0),"",C15/B15) | E15: =IF(A15="","",$B$1) | F15: =IF(OR(A15="",E15="",E15=0),"",ROUNDUP(C15/E15,-1)) | G15: =IF(OR(F15="",B15=""),"",B15-F15)
C16: =IF(A16="","",SUMIFS(レシピ!$F$2:$F$151,レシピ!$A$2:$A$151,A16)) | D16: =IF(OR(A16="",B16="",B16=0),"",C16/B16) | E16: =IF(A16="","",$B$1) | F16: =IF(OR(A16="",E16="",E16=0),"",ROUNDUP(C16/E16,-1)) | G16: =IF(OR(F16="",B16=""),"",B16-F16)
C17: =IF(A17="","",SUMIFS(レシピ!$F$2:$F$151,レシピ!$A$2:$A$151,A17)) | D17: =IF(OR(A17="",B17="",B17=0),"",C17/B17) | E17: =IF(A17="","",$B$1) | F17: =IF(OR(A17="",E17="",E17=0),"",ROUNDUP(C17/E17,-1)) | G17: =IF(OR(F17="",B17=""),"",B17-F17)
C18: =IF(A18="","",SUMIFS(レシピ!$F$2:$F$151,レシピ!$A$2:$A$151,A18)) | D18: =IF(OR(A18="",B18="",B18=0),"",C18/B18) | E18: =IF(A18="","",$B$1) | F18: =IF(OR(A18="",E18="",E18=0),"",ROUNDUP(C18/E18,-1)) | G18: =IF(OR(F18="",B18=""),"",B18-F18)
C19: =IF(A19="","",SUMIFS(レシピ!$F$2:$F$151,レシピ!$A$2:$A$151,A19)) | D19: =IF(OR(A19="",B19="",B19=0),"",C19/B19) | E19: =IF(A19="","",$B$1) | F19: =IF(OR(A19="",E19="",E19=0),"",ROUNDUP(C19/E19,-1)) | G19: =IF(OR(F19="",B19=""),"",B19-F19)
... C43: =IF(A43="","",SUMIFS(レシピ!$F$2:$F$151,レシピ!$A$2:$A$151,A43)) | D43: =IF(OR(A43="",B43="",B43=0),"",C43/B43) | E43: =IF(A43="","",$B$1) | F43: =IF(OR(A43="",E43="",E43=0),"",ROUNDUP(C43/E43,-1)) | G43: =IF(OR(F43="",B43=""),"",B43-F43)

Sheet 材料
A1: 材料の名前 | B1: 仕入れ値（円・税抜） | C1: 仕入れた量 | D1: 単位 | E1: 1単位あたり（円） | F1: メモ
A2: コーヒー豆 | B2: 2400 | C2: 1000 | D2: g | E2: =IF(OR(B2="",C2="",C2=0),"",B2/C2) -> 2.4 | F2: 例：1kgで2,400円なら、1gあたり2.4円
A3: 牛乳 | B3: 230 | C3: 1000 | D3: ml | E3: =IF(OR(B3="",C3="",C3=0),"",B3/C3) -> 0.23
A4: 砂糖 | B4: 250 | C4: 1000 | D4: g | E4: =IF(OR(B4="",C4="",C4=0),"",B4/C4) -> 0.25
A5: 小麦粉（薄力粉） | B5: 300 | C5: 1000 | D5: g | E5: =IF(OR(B5="",C5="",C5=0),"",B5/C5) -> 0.3
A6: バター | B6: 1100 | C6: 450 | D6: g | E6: =IF(OR(B6="",C6="",C6=0),"",B6/C6) -> 2.4444444
A7: 卵 | B7: 300 | C7: 10 | D7: 個 | E7: =IF(OR(B7="",C7="",C7=0),"",B7/C7) -> 30
A8: 生クリーム | B8: 450 | C8: 200 | D8: ml | E8: =IF(OR(B8="",C8="",C8=0),"",B8/C8) -> 2.25
A9: いちご | B9: 900 | C9: 300 | D9: g | E9: =IF(OR(B9="",C9="",C9=0),"",B9/C9) -> 3
A10: テイクアウト用カップ | B10: 600 | C10: 50 | D10: 個 | E10: =IF(OR(B10="",C10="",C10=0),"",B10/C10) -> 12
A11: 強力粉 | B11: 380 | C11: 1000 | D11: g | E11: =IF(OR(B11="",C11="",C11=0),"",B11/C11) -> 0.38
A12: ドライイースト | B12: 600 | C12: 300 | D12: g | E12: =IF(OR(B12="",C12="",C12=0),"",B12/C12) -> 2
A13: 塩 | B13: 150 | C13: 1000 | D13: g | E13: =IF(OR(B13="",C13="",C13=0),"",B13/C13) -> 0.15
E14: =IF(OR(B14="",C14="",C14=0),"",B14/C14)
E15: =IF(OR(B15="",C15="",C15=0),"",B15/C15)
E16: =IF(OR(B16="",C16="",C16=0),"",B16/C16)
E17: =IF(OR(B17="",C17="",C17=0),"",B17/C17)
E18: =IF(OR(B18="",C18="",C18=0),"",B18/C18)
E19: =IF(OR(B19="",C19="",C19=0),"",B19/C19)
E20: =IF(OR(B20="",C20="",C20=0),"",B20/C20)
E21: =IF(OR(B21="",C21="",C21=0),"",B21/C21)
E22: =IF(OR(B22="",C22="",C22=0),"",B22/C22)
E23: =IF(OR(B23="",C23="",C23=0),"",B23/C23)
E24: =IF(OR(B24="",C24="",C24=0),"",B24/C24)
E25: =IF(OR(B25="",C25="",C25=0),"",B25/C25)
... E61: =IF(OR(B61="",C61="",C61=0),"",B61/C61)

Sheet レシピ
A1: メニュー名 | B1: 使う材料 | C1: 使う量 | D1: 単位 | E1: 1単位あたり（円） | F1: 材料の原価（円）
A2: ブレンドコーヒー | B2: コーヒー豆 | C2: 15 | D2: =IF(B2="","",IFERROR(INDEX(材料!$D$2:$D$61,MATCH(B2,材料!$A$2:$A$61,0)),"材料にない")) -> g | E2: =IF(B2="","",IFERROR(INDEX(材料!$E$2:$E$61,MATCH(B2,材料!$A$2:$A$61,0)),"")) -> 2.4 | F2: =IF(OR(C2="",E2=""),0,C2*E2) -> 36
A3: ブレンドコーヒー | B3: テイクアウト用カップ | C3: 1 | D3: =IF(B3="","",IFERROR(INDEX(材料!$D$2:$D$61,MATCH(B3,材料!$A$2:$A$61,0)),"材料にない")) -> 個 | E3: =IF(B3="","",IFERROR(INDEX(材料!$E$2:$E$61,MATCH(B3,材料!$A$2:$A$61,0)),"")) -> 12 | F3: =IF(OR(C3="",E3=""),0,C3*E3) -> 12
A4: カフェラテ | B4: コーヒー豆 | C4: 15 | D4: =IF(B4="","",IFERROR(INDEX(材料!$D$2:$D$61,MATCH(B4,材料!$A$2:$A$61,0)),"材料にない")) -> g | E4: =IF(B4="","",IFERROR(INDEX(材料!$E$2:$E$61,MATCH(B4,材料!$A$2:$A$61,0)),"")) -> 2.4 | F4: =IF(OR(C4="",E4=""),0,C4*E4) -> 36
A5: カフェラテ | B5: 牛乳 | C5: 150 | D5: =IF(B5="","",IFERROR(INDEX(材料!$D$2:$D$61,MATCH(B5,材料!$A$2:$A$61,0)),"材料にない")) -> ml | E5: =IF(B5="","",IFERROR(INDEX(材料!$E$2:$E$61,MATCH(B5,材料!$A$2:$A$61,0)),"")) -> 0.23 | F5: =IF(OR(C5="",E5=""),0,C5*E5) -> 34.5
A6: カフェラテ | B6: テイクアウト用カップ | C6: 1 | D6: =IF(B6="","",IFERROR(INDEX(材料!$D$2:$D$61,MATCH(B6,材料!$A$2:$A$61,0)),"材料にない")) -> 個 | E6: =IF(B6="","",IFERROR(INDEX(材料!$E$2:$E$61,MATCH(B6,材料!$A$2:$A$61,0)),"")) -> 12 | F6: =IF(OR(C6="",E6=""),0,C6*E6) -> 12
A7: いちごのショートケーキ（1切れ） | B7: 小麦粉（薄力粉） | C7: 15 | D7: =IF(B7="","",IFERROR(INDEX(材料!$D$2:$D$61,MATCH(B7,材料!$A$2:$A$61,0)),"材料にない")) -> g | E7: =IF(B7="","",IFERROR(INDEX(材料!$E$2:$E$61,MATCH(B7,材料!$A$2:$A$61,0)),"")) -> 0.3 | F7: =IF(OR(C7="",E7=""),0,C7*E7) -> 4.5
A8: いちごのショートケーキ（1切れ） | B8: 砂糖 | C8: 20 | D8: =IF(B8="","",IFERROR(INDEX(材料!$D$2:$D$61,MATCH(B8,材料!$A$2:$A$61,0)),"材料にない")) -> g | E8: =IF(B8="","",IFERROR(INDEX(材料!$E$2:$E$61,MATCH(B8,材料!$A$2:$A$61,0)),"")) -> 0.25 | F8: =IF(OR(C8="",E8=""),0,C8*E8) -> 5
A9: いちごのショートケーキ（1切れ） | B9: 卵 | C9: 0.5 | D9: =IF(B9="","",IFERROR(INDEX(材料!$D$2:$D$61,MATCH(B9,材料!$A$2:$A$61,0)),"材料にない")) -> 個 | E9: =IF(B9="","",IFERROR(INDEX(材料!$E$2:$E$61,MATCH(B9,材料!$A$2:$A$61,0)),"")) -> 30 | F9: =IF(OR(C9="",E9=""),0,C9*E9) -> 15
A10: いちごのショートケーキ（1切れ） | B10: バター | C10: 8 | D10: =IF(B10="","",IFERROR(INDEX(材料!$D$2:$D$61,MATCH(B10,材料!$A$2:$A$61,0)),"材料にない")) -> g | E10: =IF(B10="","",IFERROR(INDEX(材料!$E$2:$E$61,MATCH(B10,材料!$A$2:$A$61,0)),"")) -> 2.4444444 | F10: =IF(OR(C10="",E10=""),0,C10*E10) -> 19.555556
A11: いちごのショートケーキ（1切れ） | B11: 生クリーム | C11: 40 | D11: =IF(B11="","",IFERROR(INDEX(材料!$D$2:$D$61,MATCH(B11,材料!$A$2:$A$61,0)),"材料にない")) -> ml | E11: =IF(B11="","",IFERROR(INDEX(材料!$E$2:$E$61,MATCH(B11,材料!$A$2:$A$61,0)),"")) -> 2.25 | F11: =IF(OR(C11="",E11=""),0,C11*E11) -> 90
A12: いちごのショートケーキ（1切れ） | B12: いちご | C12: 35 | D12: =IF(B12="","",IFERROR(INDEX(材料!$D$2:$D$61,MATCH(B12,材料!$A$2:$A$61,0)),"材料にない")) -> g | E12: =IF(B12="","",IFERROR(INDEX(材料!$E$2:$E$61,MATCH(B12,材料!$A$2:$A$61,0)),"")) -> 3 | F12: =IF(OR(C12="",E12=""),0,C12*E12) -> 105
A13: 食パン（1斤） | B13: 強力粉 | C13: 250 | D13: =IF(B13="","",IFERROR(INDEX(材料!$D$2:$D$61,MATCH(B13,材料!$A$2:$A$61,0)),"材料にない")) -> g | E13: =IF(B13="","",IFERROR(INDEX(材料!$E$2:$E$61,MATCH(B13,材料!$A$2:$A$61,0)),"")) -> 0.38 | F13: =IF(OR(C13="",E13=""),0,C13*E13) -> 95
... A18: 食パン（1斤） | B18: 牛乳 | C18: 100 | D18: =IF(B18="","",IFERROR(INDEX(材料!$D$2:$D$61,MATCH(B18,材料!$A$2:$A$61,0)),"材料にない")) -> ml | E18: =IF(B18="","",IFERROR(INDEX(材料!$E$2:$E$61,MATCH(B18,材料!$A$2:$A$61,0)),"")) -> 0.23 | F18: =IF(OR(C18="",E18=""),0,C18*E18) -> 23
D19: =IF(B19="","",IFERROR(INDEX(材料!$D$2:$D$61,MATCH(B19,材料!$A$2:$A$61,0)),"材料にない")) | E19: =IF(B19="","",IFERROR(INDEX(材料!$E$2:$E$61,MATCH(B19,材料!$A$2:$A$61,0)),"")) | F19: =IF(OR(C19="",E19=""),0,C19*E19) -> 0
D20: =IF(B20="","",IFERROR(INDEX(材料!$D$2:$D$61,MATCH(B20,材料!$A$2:$A$61,0)),"材料にない")) | E20: =IF(B20="","",IFERROR(INDEX(材料!$E$2:$E$61,MATCH(B20,材料!$A$2:$A$61,0)),"")) | F20: =IF(OR(C20="",E20=""),0,C20*E20) -> 0
D21: =IF(B21="","",IFERROR(INDEX(材料!$D$2:$D$61,MATCH(B21,材料!$A$2:$A$61,0)),"材料にない")) | E21: =IF(B21="","",IFERROR(INDEX(材料!$E$2:$E$61,MATCH(B21,材料!$A$2:$A$61,0)),"")) | F21: =IF(OR(C21="",E21=""),0,C21*E21) -> 0
D22: =IF(B22="","",IFERROR(INDEX(材料!$D$2:$D$61,MATCH(B22,材料!$A$2:$A$61,0)),"材料にない")) | E22: =IF(B22="","",IFERROR(INDEX(材料!$E$2:$E$61,MATCH(B22,材料!$A$2:$A$61,0)),"")) | F22: =IF(OR(C22="",E22=""),0,C22*E22) -> 0
D23: =IF(B23="","",IFERROR(INDEX(材料!$D$2:$D$61,MATCH(B23,材料!$A$2:$A$61,0)),"材料にない")) | E23: =IF(B23="","",IFERROR(INDEX(材料!$E$2:$E$61,MATCH(B23,材料!$A$2:$A$61,0)),"")) | F23: =IF(OR(C23="",E23=""),0,C23*E23) -> 0
D24: =IF(B24="","",IFERROR(INDEX(材料!$D$2:$D$61,MATCH(B24,材料!$A$2:$A$61,0)),"材料にない")) | E24: =IF(B24="","",IFERROR(INDEX(材料!$E$2:$E$61,MATCH(B24,材料!$A$2:$A$61,0)),"")) | F24: =IF(OR(C24="",E24=""),0,C24*E24) -> 0
D25: =IF(B25="","",IFERROR(INDEX(材料!$D$2:$D$61,MATCH(B25,材料!$A$2:$A$61,0)),"材料にない")) | E25: =IF(B25="","",IFERROR(INDEX(材料!$E$2:$E$61,MATCH(B25,材料!$A$2:$A$61,0)),"")) | F25: =IF(OR(C25="",E25=""),0,C25*E25) -> 0
D26: =IF(B26="","",IFERROR(INDEX(材料!$D$2:$D$61,MATCH(B26,材料!$A$2:$A$61,0)),"材料にない")) | E26: =IF(B26="","",IFERROR(INDEX(材料!$E$2:$E$61,MATCH(B26,材料!$A$2:$A$61,0)),"")) | F26: =IF(OR(C26="",E26=""),0,C26*E26) -> 0
D27: =IF(B27="","",IFERROR(INDEX(材料!$D$2:$D$61,MATCH(B27,材料!$A$2:$A$61,0)),"材料にない")) | E27: =IF(B27="","",IFERROR(INDEX(材料!$E$2:$E$61,MATCH(B27,材料!$A$2:$A$61,0)),"")) | F27: =IF(OR(C27="",E27=""),0,C27*E27) -> 0
D28: =IF(B28="","",IFERROR(INDEX(材料!$D$2:$D$61,MATCH(B28,材料!$A$2:$A$61,0)),"材料にない")) | E28: =IF(B28="","",IFERROR(INDEX(材料!$E$2:$E$61,MATCH(B28,材料!$A$2:$A$61,0)),"")) | F28: =IF(OR(C28="",E28=""),0,C28*E28) -> 0
D29: =IF(B29="","",IFERROR(INDEX(材料!$D$2:$D$61,MATCH(B29,材料!$A$2:$A$61,0)),"材料にない")) | E29: =IF(B29="","",IFERROR(INDEX(材料!$E$2:$E$61,MATCH(B29,材料!$A$2:$A$61,0)),"")) | F29: =IF(OR(C29="",E29=""),0,C29*E29) -> 0
D30: =IF(B30="","",IFERROR(INDEX(材料!$D$2:$D$61,MATCH(B30,材料!$A$2:$A$61,0)),"材料にない")) | E30: =IF(B30="","",IFERROR(INDEX(材料!$E$2:$E$61,MATCH(B30,材料!$A$2:$A$61,0)),"")) | F30: =IF(OR(C30="",E30=""),0,C30*E30) -> 0
... D151: =IF(B151="","",IFERROR(INDEX(材料!$D$2:$D$61,MATCH(B151,材料!$A$2:$A$61,0)),"材料にない")) | E151: =IF(B151="","",IFERROR(INDEX(材料!$E$2:$E$61,MATCH(B151,材料!$A$2:$A$61,0)),"")) | F151: =IF(OR(C151="",E151=""),0,C151*E151) -> 0
